View In:
ArcGIS JavaScript
ArcGIS Online Map Viewer
ArcGIS Earth
ArcMap
View Footprint In:
ArcGIS Online Map Viewer
Service Description: 3D/elevation
Name: 3D/elevation
Description:
Single Fused Map Cache: true
Tile Info:
- Height: 512
- Width: 512
- DPI: 96
-
Levels of Detail: 18
- Format: LERC
- Compression Quality: 0.0
- LERC Error: 0.1
- Origin: X: -255482.0
Y: 6609872.576
- Spatial Reference: 2600
(3346)
Storage Info:
- Storage Format: esriMapCacheStorageModeCompactV2
- Packet Size: 128
Extent:
XMin: 318567
YMin: 6186177.5
XMax: 356908
YMax: 6227582.5
Spatial Reference: 2600
(3346)
VCSWkid(105704)
LatestVCSWkid(9666)
Initial Extent:
XMin: 318567
YMin: 6186177.5
XMax: 356908
YMax: 6227582.5
Spatial Reference: 2600
(3346)
VCSWkid(105704)
LatestVCSWkid(9666)
Full Extent:
XMin: 318567
YMin: 6186177.5
XMax: 356908
YMax: 6227582.5
Spatial Reference: 2600
(3346)
VCSWkid(105704)
LatestVCSWkid(9666)
Pixel Size X: 1.0
Pixel Size Y: 1.0
Band Count: 1
Pixel Type: F32
RasterFunction Infos: {"rasterFunctionInfos": [{
"name": "None",
"description": "",
"help": ""
}]}
Mensuration Capabilities: Basic
Has Histograms: true
Has Colormap: false
Has Multi Dimensions : false
Rendering Rule:
Min Scale: 8192000
Max Scale: 62.5
Min LOD: 0
Max LOD: 14
Copyright Text:
Service Data Type: esriImageServiceDataTypeGeneric
Min Values: 0.10000000149011612
Max Values: 109.80000305175781
Mean Values: 45.3273251765516
Standard Deviation Values: 19.223781654824222
Object ID Field:
Fields:
None
Default Mosaic Method: Center
Allowed Mosaic Methods:
SortField:
SortValue: null
Mosaic Operator: First
Default Compression Quality: 75
Default Resampling Method: Bilinear
Max Record Count: null
Max Image Height: 4100
Max Image Width: 15000
Max Download Image Count: null
Max Mosaic Image Count: null
Allow Raster Function: true
Allow Copy: true
Allow Analysis: true
Allow Compute TiePoints: false
Supports Statistics: false
Supports Advanced Queries: false
Use StandardizedQueries: true
Raster Type Infos:
Name: Raster Dataset
Description: Supports all ArcGIS Raster Datasets
Help:
Has Raster Attribute Table: false
Edit Fields Info: null
Ownership Based AccessControl For Rasters: null
Child Resources:
Info
Histograms
Statistics
Key Properties
Legend
Raster Function Infos
Supported Operations:
Export Image
Identify
Measure
Compute Histograms
Compute Statistics Histograms
Get Samples
Compute Class Statistics
Query Boundary
Compute Pixel Location
Compute Angles
Validate
Project