{
 "currentVersion": 10.91,
 "serviceDescription": "3D/elevation",
 "name": "3D/elevation",
 "description": "",
 "extent": {
  "xmin": 318567,
  "ymin": 6186177.5,
  "xmax": 356908,
  "ymax": 6227582.5,
  "spatialReference": {
   "wkid": 2600,
   "latestWkid": 3346,
   "vcsWkid": 105704,
   "latestVcsWkid": 9666
  }
 },
 "initialExtent": {
  "xmin": 318567,
  "ymin": 6186177.5,
  "xmax": 356908,
  "ymax": 6227582.5,
  "spatialReference": {
   "wkid": 2600,
   "latestWkid": 3346,
   "vcsWkid": 105704,
   "latestVcsWkid": 9666
  }
 },
 "fullExtent": {
  "xmin": 318567,
  "ymin": 6186177.5,
  "xmax": 356908,
  "ymax": 6227582.5,
  "spatialReference": {
   "wkid": 2600,
   "latestWkid": 3346,
   "vcsWkid": 105704,
   "latestVcsWkid": 9666
  }
 },
 "heightModelInfo": {
  "heightModel": "gravity_related_height",
  "vertCRS": "LAS07_height",
  "heightUnit": "meter"
 },
 "hasMultidimensions": false,
 "pixelSizeX": 1,
 "pixelSizeY": 1,
 "datasetFormat": "FGDBR",
 "uncompressedSize": 6350036420,
 "blockWidth": 128,
 "blockHeight": 128,
 "compressionType": "LZ77",
 "bandNames": [
  "Band_1"
 ],
 "allowCopy": true,
 "allowAnalysis": true,
 "bandCount": 1,
 "pixelType": "F32",
 "minPixelSize": 0.016536491406316148,
 "maxPixelSize": 2167.47100160867,
 "copyrightText": "",
 "serviceDataType": "esriImageServiceDataTypeGeneric",
 "serviceSourceType": "esriImageServiceSourceTypeDataset",
 "minValues": [
  0.10000000149011612
 ],
 "maxValues": [
  109.80000305175781
 ],
 "meanValues": [
  45.3273251765516
 ],
 "stdvValues": [
  19.223781654824222
 ],
 "objectIdField": "",
 "fields": [],
 "capabilities": "Image,Metadata,Mensuration",
 "defaultMosaicMethod": "Center",
 "allowedMosaicMethods": "",
 "sortField": "",
 "sortValue": null,
 "sortAscending": true,
 "mosaicOperator": "First",
 "defaultCompressionQuality": 75,
 "defaultResamplingMethod": "Bilinear",
 "maxImageHeight": 4100,
 "maxImageWidth": 15000,
 "singleFusedMapCache": true,
 "tileInfo": {
  "rows": 512,
  "cols": 512,
  "dpi": 96,
  "format": "LERC",
  "compressionQuality": 0,
  "lercError": 0.1,
  "origin": {
   "x": -255482,
   "y": 6609872.576
  },
  "spatialReference": {
   "wkid": 2600,
   "latestWkid": 3346
  },
  "lods": [
   {
    "level": 0,
    "resolution": 2167.47100160867,
    "scale": 8192000
   },
   {
    "level": 1,
    "resolution": 1083.735500804335,
    "scale": 4096000
   },
   {
    "level": 2,
    "resolution": 541.8677504021675,
    "scale": 2048000
   },
   {
    "level": 3,
    "resolution": 270.93387520108377,
    "scale": 1024000
   },
   {
    "level": 4,
    "resolution": 135.46693760054188,
    "scale": 512000
   },
   {
    "level": 5,
    "resolution": 67.73346880027094,
    "scale": 256000
   },
   {
    "level": 6,
    "resolution": 33.86673440013547,
    "scale": 128000
   },
   {
    "level": 7,
    "resolution": 16.933367200067735,
    "scale": 64000
   },
   {
    "level": 8,
    "resolution": 8.466683600033868,
    "scale": 32000
   },
   {
    "level": 9,
    "resolution": 4.233341800016934,
    "scale": 16000
   },
   {
    "level": 10,
    "resolution": 2.116670900008467,
    "scale": 8000
   },
   {
    "level": 11,
    "resolution": 1.0583354500042335,
    "scale": 4000
   },
   {
    "level": 12,
    "resolution": 0.5291677250021167,
    "scale": 2000
   },
   {
    "level": 13,
    "resolution": 0.26458386250105836,
    "scale": 1000
   },
   {
    "level": 14,
    "resolution": 0.13229193125052918,
    "scale": 500
   },
   {
    "level": 15,
    "resolution": 0.06614596562526459,
    "scale": 250
   },
   {
    "level": 16,
    "resolution": 0.033072982812632296,
    "scale": 125
   },
   {
    "level": 17,
    "resolution": 0.016536491406316148,
    "scale": 62.5
   }
  ]
 },
 "storageInfo": {
  "storageFormat": "esriMapCacheStorageModeCompactV2",
  "packetSize": 128
 },
 "cacheType": "Elevation",
 "allowRasterFunction": true,
 "rasterFunctionInfos": [
  {
   "name": "None",
   "description": "",
   "help": ""
  }
 ],
 "rasterTypeInfos": [
  {
   "name": "Raster Dataset",
   "description": "Supports all ArcGIS Raster Datasets",
   "help": ""
  }
 ],
 "mensurationCapabilities": "Basic",
 "hasHistograms": true,
 "hasColormap": false,
 "hasRasterAttributeTable": false,
 "minScale": 8192000,
 "maxScale": 62.5,
 "minLOD": 0,
 "maxLOD": 14,
 "exportTilesAllowed": false,
 "supportsStatistics": false,
 "supportsAdvancedQueries": false,
 "editFieldsInfo": null,
 "ownershipBasedAccessControlForRasters": null,
 "allowComputeTiePoints": false,
 "useStandardizedQueries": true,
 "advancedQueryCapabilities": {
  "useStandardizedQueries": true,
  "supportsStatistics": false,
  "supportsOrderBy": false,
  "supportsDistinct": false,
  "supportsPagination": false
 },
 "spatialReference": {
  "wkid": 2600,
  "latestWkid": 3346,
  "vcsWkid": 105704,
  "latestVcsWkid": 9666
 }
}
