{ "currentVersion": 10.91, "cimVersion": "2.9.0", "serviceDescription": "
topo<\/SPAN><\/P><\/DIV>",
"mapName": "map",
"description": " topo<\/SPAN><\/P><\/DIV>",
"copyrightText": "© Kretingos rajono savivaldybės administracija",
"supportsDynamicLayers": true,
"layers": [
{
"id": 0,
"name": "20101028_T2-379_br.tif",
"parentLayerId": -1,
"defaultVisibility": true,
"subLayerIds": null,
"minScale": 0,
"maxScale": 0,
"type": "Raster Layer",
"supportsDynamicLegends": true
}
],
"tables": [],
"spatialReference": {
"wkid": 2600,
"latestWkid": 3346,
"xyTolerance": 0.001,
"zTolerance": 2,
"mTolerance": 0.001,
"falseX": -5122000,
"falseY": -10000100,
"xyUnits": 4.503554591824577E8,
"falseZ": 0,
"zUnits": 1,
"falseM": -100000,
"mUnits": 10000
},
"singleFusedMapCache": true,
"tileInfo": {
"rows": 512,
"cols": 512,
"dpi": 96,
"format": "MIXED",
"compressionQuality": 75,
"origin": {
"x": -5122000,
"y": 10000100
},
"spatialReference": {
"wkid": 2600,
"latestWkid": 3346,
"xyTolerance": 0.001,
"zTolerance": 0.001,
"mTolerance": 0.001,
"falseX": -5122000,
"falseY": -10000100,
"xyUnits": 4.503554591824577E8,
"falseZ": -100000,
"zUnits": 10000,
"falseM": -100000,
"mUnits": 10000
},
"lods": [
{
"level": 0,
"resolution": 52.91677250021167,
"scale": 200000
},
{
"level": 1,
"resolution": 26.458386250105836,
"scale": 100000
},
{
"level": 2,
"resolution": 13.229193125052918,
"scale": 50000
},
{
"level": 3,
"resolution": 6.614596562526459,
"scale": 25000
},
{
"level": 4,
"resolution": 2.6458386250105836,
"scale": 10000
},
{
"level": 5,
"resolution": 1.3229193125052918,
"scale": 5000
},
{
"level": 6,
"resolution": 0.5291677250021167,
"scale": 2000
},
{
"level": 7,
"resolution": 0.26458386250105836,
"scale": 1000
},
{
"level": 8,
"resolution": 0.13229193125052918,
"scale": 500
}
]
},
"storageInfo": {
"storageFormat": "esriMapCacheStorageModeCompactV2",
"packetSize": 128
},
"initialExtent": {
"xmin": 311877.4537394831,
"ymin": 6171521.535415498,
"xmax": 363058.5825757406,
"ymax": 6230289.660263934,
"spatialReference": {
"wkid": 2600,
"latestWkid": 3346,
"xyTolerance": 0.001,
"zTolerance": 2,
"mTolerance": 0.001,
"falseX": -5122000,
"falseY": -10000100,
"xyUnits": 4.503554591824577E8,
"falseZ": 0,
"zUnits": 1,
"falseM": -100000,
"mUnits": 10000
}
},
"fullExtent": {
"xmin": 317294.05504288303,
"ymin": 6171521.535415498,
"xmax": 357641.9812723406,
"ymax": 6230289.660263934,
"spatialReference": {
"wkid": 2600,
"latestWkid": 3346,
"xyTolerance": 0.001,
"zTolerance": 2,
"mTolerance": 0.001,
"falseX": -5122000,
"falseY": -10000100,
"xyUnits": 4.503554591824577E8,
"falseZ": 0,
"zUnits": 1,
"falseM": -100000,
"mUnits": 10000
}
},
"datesInUnknownTimezone": false,
"minScale": 200000,
"maxScale": 500,
"units": "esriMeters",
"supportedImageFormatTypes": "PNG32,PNG24,PNG,JPG,DIB,TIFF,EMF,PS,PDF,GIF,SVG,SVGZ,BMP",
"documentInfo": {
"Title": "Layers",
"Author": "",
"Comments": " topo<\/SPAN><\/P><\/DIV>",
"Subject": "Kretingos rajono savivaldybės administracija",
"Category": "",
"AntialiasingMode": "Fast",
"TextAntialiasingMode": "Force",
"Version": "2.9.0",
"Keywords": "Detalieji,specialieji,planai,Kretinga"
},
"supportsQueryDomains": true,
"capabilities": "Query,Map,Data",
"supportedQueryFormats": "JSON, geoJSON, PBF",
"exportTilesAllowed": false,
"referenceScale": 0.0,
"supportsDatumTransformation": true,
"archivingInfo": {"supportsHistoricMoment": false},
"supportsClipping": true,
"supportsSpatialFilter": true,
"supportsTimeRelation": true,
"supportsQueryDataElements": true,
"maxRecordCount": 2000,
"maxImageHeight": 4096,
"maxImageWidth": 4096,
"supportedExtensions": "",
"serviceItemId": "c573a56f30794115964628adb092813d"
}