{ "currentVersion": 10.91, "serviceDescription": "
Specialieji, detalieji sprendiniai<\/SPAN><\/P><\/DIV><\/DIV>",
"mapName": "Layers",
"description": "",
"copyrightText": "© Kretingos rajono savivaldybės administracija",
"supportsDynamicLayers": true,
"layers": [
{
"id": 0,
"name": "2021-05-27-T2-182_2_br.tif",
"parentLayerId": -1,
"defaultVisibility": true,
"subLayerIds": null,
"minScale": 0,
"maxScale": 0,
"type": "Raster Layer"
}
],
"tables": [],
"spatialReference": {
"wkid": 2600,
"latestWkid": 3346
},
"singleFusedMapCache": true,
"tileInfo": {
"rows": 512,
"cols": 512,
"dpi": 96,
"format": "MIXED",
"compressionQuality": 75,
"origin": {
"x": -5122000,
"y": 10000100
},
"spatialReference": {
"wkid": 2600,
"latestWkid": 3346
},
"lods": [
{
"level": 0,
"resolution": 52.91677250021167,
"scale": 200000
},
{
"level": 1,
"resolution": 26.458386250105836,
"scale": 100000
},
{
"level": 2,
"resolution": 13.229193125052918,
"scale": 50000
},
{
"level": 3,
"resolution": 6.614596562526459,
"scale": 25000
},
{
"level": 4,
"resolution": 2.6458386250105836,
"scale": 10000
},
{
"level": 5,
"resolution": 1.3229193125052918,
"scale": 5000
},
{
"level": 6,
"resolution": 0.5291677250021167,
"scale": 2000
},
{
"level": 7,
"resolution": 0.26458386250105836,
"scale": 1000
},
{
"level": 8,
"resolution": 0.13229193125052918,
"scale": 500
}
]
},
"initialExtent": {
"xmin": 323899.42273646616,
"ymin": 6197327.340887611,
"xmax": 331769.92416479695,
"ymax": 6205078.592294301,
"spatialReference": {
"wkid": 2600,
"latestWkid": 3346
}
},
"fullExtent": {
"xmin": 324257.1728013903,
"ymin": 6195196.757044354,
"xmax": 331412.1740998728,
"ymax": 6203915.089852251,
"spatialReference": {
"wkid": 2600,
"latestWkid": 3346
}
},
"minScale": 200000,
"maxScale": 500,
"minLOD": 0,
"maxLOD": 8,
"units": "esriMeters",
"supportedImageFormatTypes": "PNG32,PNG24,PNG,JPG,DIB,TIFF,EMF,PS,PDF,GIF,SVG,SVGZ,BMP",
"documentInfo": {
"Title": "Sprendiniu_planai.mxd",
"Author": "",
"Comments": " Specialieji, detalieji sprendiniai<\/SPAN><\/P><\/DIV><\/DIV>",
"Subject": "Kretingos rajono savivaldybės administracija",
"Category": "",
"AntialiasingMode": "Best",
"TextAntialiasingMode": "Force",
"Keywords": "Detalieji; specialieji; planai; Kretinga"
},
"capabilities": "Map,Query,Data",
"supportedQueryFormats": "JSON, geoJSON",
"exportTilesAllowed": false,
"referenceScale": 0,
"supportsDatumTransformation": true,
"maxRecordCount": 1000,
"maxImageHeight": 4096,
"maxImageWidth": 4096,
"supportedExtensions": "",
"serviceItemId": "5906c1540f8c4ae88a2ec925ed4435e6"
}