{ "currentVersion": 10.91, "serviceDescription": "
Specialieji, detalieji sprendiniai<\/SPAN><\/P><\/DIV><\/DIV>",
"mapName": "Layers",
"description": "",
"copyrightText": "© Kretingos rajono savivaldybės administracija",
"supportsDynamicLayers": true,
"layers": [
{
"id": 0,
"name": "SPECIALIEJI",
"parentLayerId": -1,
"defaultVisibility": true,
"subLayerIds": null,
"minScale": 0,
"maxScale": 0,
"type": "Raster Catalog Layer",
"geometryType": "esriGeometryPolygon"
}
],
"tables": [],
"spatialReference": {
"wkid": 2600,
"latestWkid": 3346
},
"singleFusedMapCache": true,
"tileInfo": {
"rows": 512,
"cols": 512,
"dpi": 96,
"format": "MIXED",
"compressionQuality": 75,
"origin": {
"x": -5122000,
"y": 10000100
},
"spatialReference": {
"wkid": 2600,
"latestWkid": 3346
},
"lods": [
{
"level": 0,
"resolution": 52.91677250021167,
"scale": 200000
},
{
"level": 1,
"resolution": 26.458386250105836,
"scale": 100000
},
{
"level": 2,
"resolution": 13.229193125052918,
"scale": 50000
},
{
"level": 3,
"resolution": 6.614596562526459,
"scale": 25000
},
{
"level": 4,
"resolution": 2.6458386250105836,
"scale": 10000
},
{
"level": 5,
"resolution": 1.3229193125052918,
"scale": 5000
},
{
"level": 6,
"resolution": 0.5291677250021167,
"scale": 2000
},
{
"level": 7,
"resolution": 0.26458386250105836,
"scale": 1000
},
{
"level": 8,
"resolution": 0.13229193125052918,
"scale": 500
}
]
},
"initialExtent": {
"xmin": 320292.66868493694,
"ymin": 6195853.131649217,
"xmax": 344168.71643703256,
"ymax": 6210987.328584278,
"spatialReference": {
"wkid": 2600,
"latestWkid": 3346
}
},
"fullExtent": {
"xmin": 318667.48039999977,
"ymin": 6186277.5001,
"xmax": 356807.55399999954,
"ymax": 6227480.884,
"spatialReference": {
"wkid": 2600,
"latestWkid": 3346
}
},
"minScale": 200000,
"maxScale": 500,
"units": "esriMeters",
"supportedImageFormatTypes": "PNG32,PNG24,PNG,JPG,DIB,TIFF,EMF,PS,PDF,GIF,SVG,SVGZ,BMP",
"documentInfo": {
"Title": "Sprendiniu_planai.mxd",
"Author": "",
"Comments": " Specialieji, detalieji sprendiniai<\/SPAN><\/P><\/DIV><\/DIV>",
"Subject": "Kretingos rajono savivaldybės administracija",
"Category": "",
"AntialiasingMode": "None",
"TextAntialiasingMode": "Force",
"Keywords": "Detalieji; specialieji; planai; Kretinga"
},
"capabilities": "Map,Query,Data",
"supportedQueryFormats": "JSON, geoJSON",
"exportTilesAllowed": false,
"referenceScale": 0,
"supportsDatumTransformation": true,
"maxRecordCount": 1000,
"maxImageHeight": 4096,
"maxImageWidth": 4096,
"supportedExtensions": "",
"serviceItemId": "8f475ee8552f4b29a956b2653ab6dcad"
}