{ "currentVersion": 10.91, "cimVersion": "2.9.0", "serviceDescription": "", "mapName": "Map", "description": "
ortofoto<\/SPAN><\/P><\/DIV>",
"copyrightText": "",
"supportsDynamicLayers": true,
"layers": [
{
"id": 0,
"name": "Ortofoto",
"parentLayerId": -1,
"defaultVisibility": true,
"subLayerIds": null,
"minScale": 0,
"maxScale": 0,
"type": "Raster Layer",
"supportsDynamicLegends": true
}
],
"tables": [],
"spatialReference": {
"wkid": 2600,
"latestWkid": 3346,
"xyTolerance": 0.001,
"zTolerance": 0.001,
"mTolerance": 0.001,
"falseX": -5122000,
"falseY": -10000100,
"xyUnits": 10000,
"falseZ": -100000,
"zUnits": 10000,
"falseM": -100000,
"mUnits": 10000
},
"singleFusedMapCache": true,
"tileInfo": {
"rows": 512,
"cols": 512,
"dpi": 96,
"format": "MIXED",
"compressionQuality": 75,
"origin": {
"x": -255482,
"y": 6609872.576
},
"spatialReference": {
"wkid": 2600,
"latestWkid": 3346,
"xyTolerance": 0.001,
"zTolerance": 0.001,
"mTolerance": 0.001,
"falseX": -5122000,
"falseY": -10000100,
"xyUnits": 4.503554591824577E8,
"falseZ": -100000,
"zUnits": 10000,
"falseM": -100000,
"mUnits": 10000
},
"lods": [
{
"level": 0,
"resolution": 2167.47100160867,
"scale": 8192000
},
{
"level": 1,
"resolution": 1083.735500804335,
"scale": 4096000
},
{
"level": 2,
"resolution": 541.8677504021675,
"scale": 2048000
},
{
"level": 3,
"resolution": 270.93387520108377,
"scale": 1024000
},
{
"level": 4,
"resolution": 135.46693760054188,
"scale": 512000
},
{
"level": 5,
"resolution": 67.73346880027094,
"scale": 256000
},
{
"level": 6,
"resolution": 33.86673440013547,
"scale": 128000
},
{
"level": 7,
"resolution": 16.933367200067735,
"scale": 64000
},
{
"level": 8,
"resolution": 8.466683600033868,
"scale": 32000
},
{
"level": 9,
"resolution": 4.233341800016934,
"scale": 16000
},
{
"level": 10,
"resolution": 2.116670900008467,
"scale": 8000
},
{
"level": 11,
"resolution": 1.0583354500042335,
"scale": 4000
},
{
"level": 12,
"resolution": 0.5291677250021167,
"scale": 2000
},
{
"level": 13,
"resolution": 0.26458386250105836,
"scale": 1000
},
{
"level": 14,
"resolution": 0.13229193125052918,
"scale": 500
},
{
"level": 15,
"resolution": 0.06614596562526459,
"scale": 250
},
{
"level": 16,
"resolution": 0.033072982812632296,
"scale": 125
},
{
"level": 17,
"resolution": 0.016536491406316148,
"scale": 62.5
}
]
},
"storageInfo": {
"storageFormat": "esriMapCacheStorageModeCompactV2",
"packetSize": 128
},
"initialExtent": {
"xmin": 310824.25,
"ymin": 6184107.25,
"xmax": 364650.75,
"ymax": 6229652.75,
"spatialReference": {
"wkid": 2600,
"latestWkid": 3346,
"xyTolerance": 0.001,
"zTolerance": 0.001,
"mTolerance": 0.001,
"falseX": -5122000,
"falseY": -10000100,
"xyUnits": 10000,
"falseZ": -100000,
"zUnits": 10000,
"falseM": -100000,
"mUnits": 10000
}
},
"fullExtent": {
"xmin": 318567,
"ymin": 6186177.5,
"xmax": 356908,
"ymax": 6227582.5,
"spatialReference": {
"wkid": 2600,
"latestWkid": 3346,
"xyTolerance": 0.001,
"zTolerance": 0.001,
"mTolerance": 0.001,
"falseX": -5122000,
"falseY": -10000100,
"xyUnits": 10000,
"falseZ": -100000,
"zUnits": 10000,
"falseM": -100000,
"mUnits": 10000
}
},
"datesInUnknownTimezone": false,
"minScale": 8192000,
"maxScale": 62.5,
"units": "esriMeters",
"supportedImageFormatTypes": "PNG32,PNG24,PNG,JPG,DIB,TIFF,EMF,PS,PDF,GIF,SVG,SVGZ,BMP",
"documentInfo": {
"Title": "Map",
"Author": "",
"Comments": " ortofoto<\/SPAN><\/P><\/DIV>",
"Subject": "ortofoto",
"Category": "",
"AntialiasingMode": "Fast",
"TextAntialiasingMode": "Force",
"Version": "2.7.0",
"Keywords": "ortofoto"
},
"supportsQueryDomains": true,
"capabilities": "Query,Map,Data",
"supportedQueryFormats": "JSON, geoJSON, PBF",
"exportTilesAllowed": false,
"referenceScale": 0.0,
"supportsDatumTransformation": true,
"archivingInfo": {"supportsHistoricMoment": false},
"supportsClipping": true,
"supportsSpatialFilter": true,
"supportsTimeRelation": true,
"supportsQueryDataElements": true,
"maxRecordCount": 2000,
"maxImageHeight": 4096,
"maxImageWidth": 4096,
"supportedExtensions": "",
"serviceItemId": "8d47973b57d6446d9242a290a521e2de"
}